BEGIN:VCALENDAR
VERSION:2.0
PRODID:http://www.katholisch-in-wadern.de
BEGIN:VEVENT
UID:e7dd09b1-348a-11f1-a3e9-0242ac11002b-1784386800000-de
DTSTAMP:20260410T031102Z
DTSTART:20260718T150000Z
DTEND:20260718T160000Z
SUMMARY;LANGUAGE=de: Vorabendmesse zum Patronatsfest Hl. Liborius - mitgestaltet vom Kirchenchor 
END:VEVENT
END:VCALENDAR
