BEGIN:VCALENDAR
VERSION:2.0
PRODID:http://www.katholisch-in-wadern.de
BEGIN:VEVENT
UID:857dc401-19db-11f1-8342-0242ac11002b-1781362800000-de
DTSTAMP:20260307T041005Z
DTSTART:20260613T150000Z
DTEND:20260613T160000Z
SUMMARY;LANGUAGE=de: Vorabendmesse zum Patronatsfest "Heiligstes Herz Jesu" 
END:VEVENT
END:VCALENDAR
