BEGIN:VCALENDAR
VERSION:2.0
PRODID:http://www.katholisch-in-wadern.de
BEGIN:VEVENT
UID:476d5eef-3f8b-11f1-a3e9-0242ac11002b-1785592800000-de
DTSTAMP:20260424T031125Z
DTSTART:20260801T140000Z
DTEND:20260801T144500Z
SUMMARY;LANGUAGE=de: Beichte 
URL:http://www.katholisch-in-wadern.de/aktuelles/gottesdienste/gottesdienst/Beichte-2026.08.01/
END:VEVENT
END:VCALENDAR
