BEGIN:VCALENDAR
VERSION:2.0
PRODID:http://www.katholisch-in-wadern.de
BEGIN:VEVENT
UID:02442f2e-3a0b-11f1-a3e9-0242ac11002b-1784988000000-de
DTSTAMP:20260417T031038Z
DTSTART:20260725T140000Z
DTEND:20260725T144500Z
SUMMARY;LANGUAGE=de: Beichte 
URL:http://www.katholisch-in-wadern.de/aktuelles/gottesdienste/gottesdienst/Beichte-2026.07.25/
END:VEVENT
END:VCALENDAR
